BEGIN:VCALENDAR
VERSION:2.0
PRODID:DPCALENDAR
CALSCALE:GREGORIAN
X-WR-TIMEZONE:UTC
BEGIN:VEVENT
DTSTART;TZID=UTC:20220527T170000
DTEND;TZID=UTC:20220527T203000
RRULE:FREQ=MONTHLY;INTERVAL=10;UNTIL=20320710T235900Z
EXDATE:20220527T170000Z,20230327T170000Z,20240127T170000Z,20241127T170000Z,20250927T170000Z,20260727T170000Z,20270527T170000Z,20280327T170000Z,20290127T170000Z,20291127T170000Z,20300927T170000Z,20310727T170000Z,20320527T170000Z
UID:EF7F84B0-C22C-4B6A-AC0E-0805AED1B4A2
SUMMARY:Stefan Test
CREATED:20220510T123544Z
DTSTAMP:20220510T123544Z
DESCRIPTION:asdsadsadsad\NMakro.pdf
X-ALT-DESC;FMTTYPE=text/html:<p>asdsadsadsad</p><p><a href="images/sccberlin/downloads/Makro.pdf" class="wf_file">Makro.pdf</a></p>
X-ACCESS:1
X-HITS:5
X-URL:https://www.scc-berlin-radwandern.de/termine/stefan-test
X-COLOR:4458eb
X-SHOW-END-TIME:1
END:VEVENT
BEGIN:VEVENT
DTSTART;TZID=UTC:20230624T110000
DTEND;TZID=UTC:20230624T160000
UID:80CA3480-8EEF-433F-8B1F-11171DBF20BA
SUMMARY:Radtour ab S-Bhf. Buch (Rundtour)
CREATED:20230630T003142Z
DTSTAMP:20230630T003142Z
DESCRIPTION:
X-ALT-DESC;FMTTYPE=text/html:
X-ACCESS:1
X-HITS:4
X-URL:https://www.scc-berlin-radwandern.de/termine/radtour-ab-s-bhf-buch-rundtour
X-COLOR:3366cc
X-SHOW-END-TIME:1
END:VEVENT
BEGIN:VEVENT
DTSTART;TZID=UTC:20230715T110000
DTEND;TZID=UTC:20230715T160000
UID:C1B61FD7-872F-40AD-BAE6-EAD4D3D3B02B
SUMMARY:Radtour ab Potsdam Hbf. (Rundtour)
CREATED:20230630T003310Z
DTSTAMP:20230630T003310Z
DESCRIPTION:
X-ALT-DESC;FMTTYPE=text/html:
LOCATION:Friedrich-List-Straße\, Potsdam\, Brandenburg 14473\, Deutschland
GEO:52.39151650;13.06722350
LAST-MODIFIED:20230713T101310Z
SEQUENCE:1158000
X-ACCESS:1
X-HITS:138
X-URL:https://www.scc-berlin-radwandern.de/termine/radtour-ab-potsdam-hbf-rundtour
X-COLOR:3366cc
X-SHOW-END-TIME:1
END:VEVENT
BEGIN:VEVENT
DTSTART;TZID=UTC:20230727T170000
DTEND;TZID=UTC:20230727T183000
UID:84AB1AAB-20BD-4B75-8914-EEE8A8049F16
SUMMARY:Abteilungsvorstand Radwandern und Radsport
CREATED:20230719T154910Z
DTSTAMP:20230719T154910Z
DESCRIPTION:
X-ALT-DESC;FMTTYPE=text/html:
LAST-MODIFIED:20230719T155012Z
SEQUENCE:62
X-ACCESS:1
X-HITS:169
X-URL:https://www.scc-berlin-radwandern.de/termine/abteilungsvorstand-radwandern-und-radsport
X-COLOR:3366cc
X-SHOW-END-TIME:1
END:VEVENT
BEGIN:VEVENT
DTSTART;TZID=UTC:20230805T103000
DTEND;TZID=UTC:20230805T163000
UID:8D8976C7-467E-4677-A709-5C9287870942
SUMMARY:Radtour Rundweg S-Bhf. Osdorfer Str. - Diedersdorf -  Großbeeren
CREATED:20230714T211921Z
DTSTAMP:20230714T211921Z
DESCRIPTION:
X-ALT-DESC;FMTTYPE=text/html:
LOCATION:Osdorfer Straße\, Berlin\, 12207\, Deutschland
GEO:52.41844004;13.31365943
LAST-MODIFIED:20230731T195643Z
SEQUENCE:1463842
X-ACCESS:1
X-HITS:200
X-URL:https://www.scc-berlin-radwandern.de/termine/radtour-vorbereitung-renate
X-COLOR:3366cc
X-SHOW-END-TIME:1
END:VEVENT
BEGIN:VEVENT
DTSTART;TZID=UTC:20230826T103000
DTEND;TZID=UTC:20230826T163000
UID:A3362A59-6F1F-4D8F-8DCA-43E0D5A33058
SUMMARY:Radtour Rundweg Grünau - Schmöckwitz -Gosen - Müggelheim
CREATED:20230714T212334Z
DTSTAMP:20230714T212334Z
DESCRIPTION:
X-ALT-DESC;FMTTYPE=text/html:
LOCATION:
GEO:52.41326470;13.57492350
LAST-MODIFIED:20230811T025104Z
SEQUENCE:2352450
X-ACCESS:1
X-HITS:145
X-URL:https://www.scc-berlin-radwandern.de/termine/radtour-rundweg-gruenau
X-COLOR:3366cc
X-SHOW-END-TIME:1
END:VEVENT
BEGIN:VEVENT
DTSTART;TZID=UTC:20230916T110000
DTEND;TZID=UTC:20230916T170000
UID:1FDF9353-6D89-4C54-994A-36E96A0FED5D
SUMMARY:Radtour ab S-Bhf. Königs Wusterhausen
CREATED:20230714T212334Z
DTSTAMP:20230714T212334Z
DESCRIPTION:
X-ALT-DESC;FMTTYPE=text/html:
LAST-MODIFIED:20230911T121656Z
SEQUENCE:5064802
X-ACCESS:1
X-HITS:153
X-URL:https://www.scc-berlin-radwandern.de/termine/radtour-vorbereitung-stefan-2
X-COLOR:3366cc
X-SHOW-END-TIME:1
END:VEVENT
BEGIN:VEVENT
DTSTART;TZID=UTC:20230930T103000
DTEND;TZID=UTC:20230930T163000
UID:F7E73E43-48A3-45C5-9E3E-BEA787CE74AE
SUMMARY:Radtour ab S-Bhf. Oranienburg nach Liebenwalde, Rundtour
CREATED:20230804T150323Z
DTSTAMP:20230804T150323Z
DESCRIPTION:
X-ALT-DESC;FMTTYPE=text/html:
LAST-MODIFIED:20230911T121919Z
SEQUENCE:3273356
X-ACCESS:1
X-HITS:178
X-URL:https://www.scc-berlin-radwandern.de/termine/radtour-vorbereitung-renate-2
X-COLOR:3366cc
X-SHOW-END-TIME:1
END:VEVENT
BEGIN:VEVENT
DTSTART;TZID=UTC:20231007T103000
DTEND;TZID=UTC:20231007T153000
UID:500E060D-492E-4A55-B0E5-E1077F02BD5E
SUMMARY:1. Wanderung
CREATED:20230804T150432Z
DTSTAMP:20230804T150432Z
DESCRIPTION:
X-ALT-DESC;FMTTYPE=text/html:
X-ACCESS:1
X-HITS:203
X-URL:https://www.scc-berlin-radwandern.de/termine/1-wanderung
X-COLOR:3366cc
X-SHOW-END-TIME:1
END:VEVENT
BEGIN:VEVENT
DTSTART;TZID=UTC:20231028T120000
DTEND;TZID=UTC:20231028T133000
UID:451F6748-753A-45D1-A6AA-A5445EDC363C
SUMMARY:6. Wanderung vom Fehrbelliner PLatz zum Lietzensee
CREATED:20230804T150620Z
DTSTAMP:20230804T150620Z
DESCRIPTION:
X-ALT-DESC;FMTTYPE=text/html:
LAST-MODIFIED:20231025T124515Z
SEQUENCE:7076335
X-ACCESS:1
X-HITS:145
X-URL:https://www.scc-berlin-radwandern.de/termine/6-wanderung
X-COLOR:3366cc
X-SHOW-END-TIME:1
END:VEVENT
BEGIN:VEVENT
DTSTART;TZID=UTC:20231028T140000
DTEND;TZID=UTC:20231028T160000
UID:A6D06898-EA28-4450-A05F-1E66CAF54834
SUMMARY:Jahresmitgliederversammlung der Abteilung
CREATED:20230804T150714Z
DTSTAMP:20230804T150714Z
DESCRIPTION:
X-ALT-DESC;FMTTYPE=text/html:
LOCATION:
GEO:52.51035340;13.29189200
LAST-MODIFIED:20231025T124029Z
SEQUENCE:7075995
X-ACCESS:1
X-HITS:209
X-URL:https://www.scc-berlin-radwandern.de/termine/jahresmitgliederversammlung-der-abteilung
X-COLOR:3366cc
X-SHOW-END-TIME:1
END:VEVENT
BEGIN:VEVENT
DTSTART;TZID=UTC:20231118T103000
DTEND;TZID=UTC:20231118T153000
UID:CDB14381-9C17-45DD-8012-ADFFBB825DF5
SUMMARY:7. Wanderung von der Wuhlheide zum Schloss Köpenick
CREATED:20230804T151103Z
DTSTAMP:20230804T151103Z
DESCRIPTION:Start um 10.30 Uhr S-Bahnhof Wuhlheide,weitere Infos auf der Seite Aktuelles!
X-ALT-DESC;FMTTYPE=text/html:<p>Start um 10.30 Uhr S-Bahnhof Wuhlheide,<br />weitere Infos auf der Seite Aktuelles!</p>
LAST-MODIFIED:20231111T184554Z
SEQUENCE:8566491
X-ACCESS:1
X-HITS:270
X-URL:https://www.scc-berlin-radwandern.de/termine/7-wanderung
X-COLOR:3366cc
X-SHOW-END-TIME:1
END:VEVENT
BEGIN:VEVENT
DTSTART;TZID=UTC:20231209T113000
DTEND;TZID=UTC:20231209T153000
UID:9CDE6F13-03D6-4AE1-96E1-52E070676B8E
SUMMARY:8. Wanderung von S-Bhf. Zepernick nach Bernau
CREATED:20230804T150814Z
DTSTAMP:20230804T150814Z
DESCRIPTION:
X-ALT-DESC;FMTTYPE=text/html:
LAST-MODIFIED:20231206T235422Z
SEQUENCE:10745168
X-ACCESS:1
X-HITS:321
X-URL:https://www.scc-berlin-radwandern.de/termine/8-wanderung
X-COLOR:3366cc
X-SHOW-END-TIME:1
END:VEVENT
BEGIN:VEVENT
DTSTART;TZID=UTC:20240113T110000
DTEND;TZID=UTC:20240113T150000
UID:0DC2A6C6-CFE9-4B87-BC79-104DBDBCD8AC
SUMMARY:Wanderung S-Bhf. Charlottenburg zum Victoria-Luise-Platz
CREATED:20240108T112420Z
DTSTAMP:20240108T112420Z
DESCRIPTION:
X-ALT-DESC;FMTTYPE=text/html:
LAST-MODIFIED:20240108T112841Z
SEQUENCE:261
X-ACCESS:1
X-HITS:69
X-URL:https://www.scc-berlin-radwandern.de/termine/wanderung-s-bhf-charlottenburg-zum-victoruia-luise-platz
X-COLOR:3366cc
X-SHOW-END-TIME:1
END:VEVENT
BEGIN:VEVENT
DTSTART;TZID=UTC:20240203T110000
DTEND;TZID=UTC:20240203T150000
UID:A27F3E18-8B85-43F5-9927-2B312FE024FD
SUMMARY:2. Wanderung
CREATED:20240108T112929Z
DTSTAMP:20240108T112929Z
DESCRIPTION:
X-ALT-DESC;FMTTYPE=text/html:
X-ACCESS:1
X-HITS:205
X-URL:https://www.scc-berlin-radwandern.de/termine/2-wanderung-2
X-COLOR:3366cc
X-SHOW-END-TIME:1
END:VEVENT
BEGIN:VEVENT
DTSTART;TZID=UTC:20240224T110000
DTEND;TZID=UTC:20240224T150000
UID:DC91CAFC-DD2B-4D82-80C4-8AC710ADC172
SUMMARY:3. Wanderung
CREATED:20240108T113044Z
DTSTAMP:20240108T113044Z
DESCRIPTION:
X-ALT-DESC;FMTTYPE=text/html:
X-ACCESS:1
X-HITS:336
X-URL:https://www.scc-berlin-radwandern.de/termine/3-wanderung
X-COLOR:3366cc
X-SHOW-END-TIME:1
END:VEVENT
BEGIN:VEVENT
DTSTART;TZID=UTC:20240316T110000
DTEND;TZID=UTC:20240316T150000
UID:19FAA09E-9F57-4AB9-89DA-9D08535FCA0C
SUMMARY:4. Wanderung
CREATED:20240108T112648Z
DTSTAMP:20240108T112648Z
DESCRIPTION:
X-ALT-DESC;FMTTYPE=text/html:
LAST-MODIFIED:20240108T112733Z
SEQUENCE:45
X-ACCESS:1
X-HITS:447
X-URL:https://www.scc-berlin-radwandern.de/termine/2-wanderung
X-COLOR:3366cc
X-SHOW-END-TIME:1
END:VEVENT
BEGIN:VEVENT
DTSTART;TZID=UTC:20240420T100000
DTEND;TZID=UTC:20240420T150000
UID:C365AA72-0E02-4D50-9D87-14275DB9B342
SUMMARY:1. Radtour ab Rathaus Steglitz, Rundtour Mauerweg und schöne Alleen
CREATED:20240108T113151Z
DTSTAMP:20240108T113151Z
DESCRIPTION:Treffpunkt S-Bhf. Rathaus Steglitz, 10.00 UhrEinladung unter "Aktuelles"
X-ALT-DESC;FMTTYPE=text/html:<p>Treffpunkt S-Bhf. Rathaus Steglitz, 10.00 Uhr<br />Einladung unter "Aktuelles"</p>
LAST-MODIFIED:20240415T212635Z
SEQUENCE:8502884
X-ACCESS:1
X-HITS:602
X-URL:https://www.scc-berlin-radwandern.de/termine/1-radtour
X-COLOR:3366cc
X-SHOW-END-TIME:1
END:VEVENT
BEGIN:VEVENT
DTSTART;TZID=UTC:20240509T110000
DTEND;TZID=UTC:20240509T160000
UID:9AE60959-3D64-424E-86B1-3F8228D18729
SUMMARY:2. Radtour von Potsdam nach Werder
CREATED:20240108T113224Z
DTSTAMP:20240108T113224Z
DESCRIPTION:Start: S-Bhf. Potsdam Hbf.Ziel: Werder Altstadt
X-ALT-DESC;FMTTYPE=text/html:<p>Start: S-Bhf. Potsdam Hbf.<br />Ziel: Werder Altstadt</p>
LAST-MODIFIED:20240524T135510Z
SEQUENCE:11845366
X-ACCESS:1
X-HITS:616
X-URL:https://www.scc-berlin-radwandern.de/termine/2-radtour
X-COLOR:3366cc
X-SHOW-END-TIME:1
END:VEVENT
BEGIN:VEVENT
DTSTART;TZID=UTC:20240601T110000
DTEND;TZID=UTC:20240601T160000
UID:44488C77-AE27-4FC9-8850-9D5C86C07B26
SUMMARY:3. Radtour von Wittenau nach Hohen Neuendorf
CREATED:20240108T113303Z
DTSTAMP:20240108T113303Z
DESCRIPTION:
X-ALT-DESC;FMTTYPE=text/html:
LAST-MODIFIED:20240524T135353Z
SEQUENCE:11845250
X-ACCESS:1
X-HITS:781
X-URL:https://www.scc-berlin-radwandern.de/termine/3-radtour
X-COLOR:3366cc
X-SHOW-END-TIME:1
END:VEVENT
BEGIN:VEVENT
DTSTART;TZID=UTC:20240622T100000
DTEND;TZID=UTC:20240622T170000
UID:8D2E0822-85D2-415E-8AD2-732C2FBF5C54
SUMMARY:4. Radtour
CREATED:20240108T113342Z
DTSTAMP:20240108T113342Z
DESCRIPTION:
X-ALT-DESC;FMTTYPE=text/html:
X-ACCESS:1
X-HITS:939
X-URL:https://www.scc-berlin-radwandern.de/termine/4-radtour
X-COLOR:3366cc
X-SHOW-END-TIME:1
END:VEVENT
BEGIN:VEVENT
DTSTART;TZID=UTC:20240629T100000
DTEND;TZID=UTC:20240629T150000
UID:4149AE3A-10AB-4967-BB71-13FF5B248755
SUMMARY:Radtour 4a Rundfahrt Wannsee-Glienicke ab S-Bhf. Grunewald
CREATED:20240628T143309Z
DTSTAMP:20240628T143309Z
DESCRIPTION:
X-ALT-DESC;FMTTYPE=text/html:
LAST-MODIFIED:20240628T143613Z
SEQUENCE:184
X-ACCESS:1
X-HITS:11
X-URL:https://www.scc-berlin-radwandern.de/termine/radtour-4a
X-COLOR:3366cc
X-SHOW-END-TIME:1
END:VEVENT
BEGIN:VEVENT
DTSTART;TZID=UTC:20240713T120000
DTEND;TZID=UTC:20240713T163000
UID:00E6D8A4-F500-4EF9-ADC0-339BAA065159
SUMMARY:5. Radtour:  Vom Breitenbachplatz Runde um Grunewaldseen
CREATED:20240108T113430Z
DTSTAMP:20240108T113430Z
DESCRIPTION:
X-ALT-DESC;FMTTYPE=text/html:
LAST-MODIFIED:20240714T175658Z
SEQUENCE:16266148
X-ACCESS:1
X-HITS:944
X-URL:https://www.scc-berlin-radwandern.de/termine/5-radtour
X-COLOR:3366cc
X-SHOW-END-TIME:1
END:VEVENT
BEGIN:VEVENT
DTSTART;TZID=UTC:20240810T100000
DTEND;TZID=UTC:20240810T150000
UID:00A816D6-EED6-4E0E-99A3-37F2677858D9
SUMMARY:6. Radtour Start:S-Bhf. Köpenick,  Rundfahrt Müggelsee
CREATED:20240108T113506Z
DTSTAMP:20240108T113506Z
DESCRIPTION:
X-ALT-DESC;FMTTYPE=text/html:
LAST-MODIFIED:20240807T010929Z
SEQUENCE:18279263
X-ACCESS:1
X-HITS:929
X-URL:https://www.scc-berlin-radwandern.de/termine/6-radtour
X-COLOR:3366cc
X-SHOW-END-TIME:1
END:VEVENT
BEGIN:VEVENT
DTSTART;TZID=UTC:20240824T100000
DTEND;TZID=UTC:20240824T170000
UID:6D03644D-BD15-41DF-83ED-EC1BD35356B2
SUMMARY:7. Radtour
CREATED:20240108T113542Z
DTSTAMP:20240108T113542Z
DESCRIPTION:
X-ALT-DESC;FMTTYPE=text/html:
X-ACCESS:1
X-HITS:609
X-URL:https://www.scc-berlin-radwandern.de/termine/7-radtour
X-COLOR:3366cc
X-SHOW-END-TIME:1
END:VEVENT
BEGIN:VEVENT
DTSTART;TZID=UTC:20240914T100000
DTEND;TZID=UTC:20240914T170000
UID:0471EC20-62F3-49A1-B36F-962150A2BCDB
SUMMARY:8. Radtour
CREATED:20240108T113636Z
DTSTAMP:20240108T113636Z
DESCRIPTION:
X-ALT-DESC;FMTTYPE=text/html:
X-ACCESS:1
X-HITS:832
X-URL:https://www.scc-berlin-radwandern.de/termine/8-radtour
X-COLOR:3366cc
X-SHOW-END-TIME:1
END:VEVENT
BEGIN:VEVENT
DTSTART;TZID=UTC:20241005T110000
DTEND;TZID=UTC:20241005T150000
UID:264DAEC4-1838-4F17-A62D-CB31D5005017
SUMMARY:5. Wanderung
CREATED:20240108T113710Z
DTSTAMP:20240108T113710Z
DESCRIPTION:
X-ALT-DESC;FMTTYPE=text/html:
X-ACCESS:1
X-HITS:446
X-URL:https://www.scc-berlin-radwandern.de/termine/5-wanderung
X-COLOR:3366cc
X-SHOW-END-TIME:1
END:VEVENT
BEGIN:VEVENT
DTSTART;TZID=UTC:20241019T110000
DTEND;TZID=UTC:20241019T150000
UID:E9600489-02D3-43BB-A266-9719E4F7F839
SUMMARY:6. Wanderung
CREATED:20240108T113748Z
DTSTAMP:20240108T113748Z
DESCRIPTION:
X-ALT-DESC;FMTTYPE=text/html:
X-ACCESS:1
X-HITS:404
X-URL:https://www.scc-berlin-radwandern.de/termine/6-wanderung-2
X-COLOR:3366cc
X-SHOW-END-TIME:1
END:VEVENT
BEGIN:VEVENT
DTSTART;TZID=UTC:20241109T103000
DTEND;TZID=UTC:20241109T133000
UID:84B2DCC3-64C3-42DB-8628-B3DC34B949FB
SUMMARY:7. Wanderung
CREATED:20240108T113901Z
DTSTAMP:20240108T113901Z
DESCRIPTION:
X-ALT-DESC;FMTTYPE=text/html:
X-ACCESS:1
X-HITS:367
X-URL:https://www.scc-berlin-radwandern.de/termine/7-wanderung-2
X-COLOR:3366cc
X-SHOW-END-TIME:1
END:VEVENT
BEGIN:VEVENT
DTSTART;TZID=UTC:20241109T140000
DTEND;TZID=UTC:20241109T160000
UID:5B4CF781-D2A1-41B4-B09B-FBEE89DF1D65
SUMMARY:Mitgliederversammlung 2024
CREATED:20240108T113947Z
DTSTAMP:20240108T113947Z
DESCRIPTION:
X-ALT-DESC;FMTTYPE=text/html:
X-ACCESS:1
X-HITS:351
X-URL:https://www.scc-berlin-radwandern.de/termine/mitgliederversammlung-2024
X-COLOR:3366cc
X-SHOW-END-TIME:1
END:VEVENT
BEGIN:VEVENT
DTSTART;TZID=UTC:20241130T110000
DTEND;TZID=UTC:20241130T150000
UID:BB5E4D04-EE42-49B7-BD8D-2A34568EF48E
SUMMARY:8. Wanderung
CREATED:20240108T114016Z
DTSTAMP:20240108T114016Z
DESCRIPTION:
X-ALT-DESC;FMTTYPE=text/html:
X-ACCESS:1
X-HITS:275
X-URL:https://www.scc-berlin-radwandern.de/termine/8-wanderung-2
X-COLOR:3366cc
X-SHOW-END-TIME:1
END:VEVENT
END:VCALENDAR